View In:
ArcGIS JavaScript
ArcGIS Online Map Viewer
ArcGIS Earth
Service Description: Noise maps showing areas that are relatively louder or quieter, measured in decibels (dB), for major road traffic noise in Scotland in 2021. Major roads are defined as those with more than 3,000,000 vehicle passages per year. The data represents the night levels (Lnight) – the annual average A-weighted long-term sound over the night period (23:00-07:00).
Scottish Ministers commissioned strategic noise mapping analysis to meet the requirements of the Environmental Noise Directive (Directive 2002/49/EC), which is legally implemented in Scotland thorough the Environmental Noise (Scotland) Regulations 2006, as amended by the Environmental Noise (Scotland) Amendment Regulations 2018.
Noise maps are used to identify areas where noise levels are high and, by linking population data, estimate how many people are affected. This aids in the production of noise action plans to manage noise and reduce noise levels where appropriate.
Name: Noise/Noise_Road_LNGT_Major
Description: Noise maps showing areas that are relatively louder or quieter, measured in decibels (dB), for major road traffic noise in Scotland in 2021. Major roads are defined as those with more than 3,000,000 vehicle passages per year. The data represents the night levels (Lnight) – the annual average A-weighted long-term sound over the night period (23:00-07:00).
Scottish Ministers commissioned strategic noise mapping analysis to meet the requirements of the Environmental Noise Directive (Directive 2002/49/EC), which is legally implemented in Scotland thorough the Environmental Noise (Scotland) Regulations 2006, as amended by the Environmental Noise (Scotland) Amendment Regulations 2018.
Noise maps are used to identify areas where noise levels are high and, by linking population data, estimate how many people are affected. This aids in the production of noise action plans to manage noise and reduce noise levels where appropriate.
Single Fused Map Cache: false
Extent:
XMin: 5515.0
YMin: 530255.0
XMax: 470335.0
YMax: 1220315.0
Spatial Reference: 27700
(27700)
LatestVCSWkid(0)
Initial Extent:
XMin: 5515.0
YMin: 530255.0
XMax: 470335.0
YMax: 1220315.0
Spatial Reference: 27700
(27700)
LatestVCSWkid(0)
Full Extent:
XMin: 5515.0
YMin: 530255.0
XMax: 470335.0
YMax: 1220315.0
Spatial Reference: 27700
(27700)
LatestVCSWkid(0)
Pixel Size X: 10.0
Pixel Size Y: 10.0
Band Count: 1
Pixel Type: F32
RasterFunction Infos: {"rasterFunctionInfos": [{
"name": "None",
"description": "",
"help": ""
}]}
Mensuration Capabilities: Basic
Inspection Capabilities:
Has Histograms: true
Has Colormap: false
Has Multi Dimensions : false
Rendering Rule:
Min Scale: 0
Max Scale: 0
Copyright Text: © Scottish Government, contains Ordnance Survey data © Crown copyright and database right 2024.
Service Data Type: esriImageServiceDataTypeGeneric
Min Values: 0
Max Values: 81.089996337891
Mean Values: 1.1353153958422
Standard Deviation Values: 7.0512970052852
Object ID Field:
Fields:
None
Default Mosaic Method: Center
Allowed Mosaic Methods:
SortField:
SortValue: null
Mosaic Operator: First
Default Compression Quality: 75
Default Resampling Method: Bilinear
Max Record Count: null
Max Image Height: 4100
Max Image Width: 15000
Max Download Image Count: null
Max Mosaic Image Count: null
Allow Raster Function: true
Allow Copy: true
Allow Analysis: true
Allow Compute TiePoints: false
Supports Statistics: false
Supports Advanced Queries: false
Use StandardizedQueries: true
Raster Type Infos:
Name: Raster Dataset
Description: Supports all ArcGIS Raster Datasets
Help:
Has Raster Attribute Table: false
Edit Fields Info: null
Ownership Based AccessControl For Rasters: null
Child Resources:
Info
Histograms
Statistics
Key Properties
Legend
Raster Function Infos
Supported Operations:
Export Image
Identify
Measure
Compute Histograms
Compute Statistics Histograms
Get Samples
Compute Class Statistics
Query Boundary
Compute Pixel Location
Compute Angles
Validate
Project