View In:
ArcGIS JavaScript
ArcGIS Online Map Viewer
ArcGIS Earth
Service Description: Noise maps showing areas that are relatively louder or quieter, measured in decibels (dB), for all road traffic noise in Scotland (both major and non-major sources) in 2021. The data represents the day-evening-night levels (Lden) which are annual average noise levels with separate weightings for the evening and night periods. Day, evening and night periods are defined as 07.00 to 19.00, 19.00 to 23.00 and 23.00 to 07.00 respectively.
Scottish Ministers commissioned strategic noise mapping analysis to meet the requirements of the Environmental Noise Directive (Directive 2002/49/EC), which is legally implemented in Scotland thorough the Environmental Noise (Scotland) Regulations 2006, as amended by the Environmental Noise (Scotland) Amendment Regulations 2018.
Noise maps are used to identify areas where noise levels are high and, by linking population data, estimate how many people are affected. This aids in the production of noise action plans to manage noise and reduce noise levels where appropriate.
Name: Noise/Noise_Road_LDEN_ALL
Description: Noise maps showing areas that are relatively louder or quieter, measured in decibels (dB), for all road traffic noise in Scotland (both major and non-major sources) in 2021. The data represents the day-evening-night levels (Lden) which are annual average noise levels with separate weightings for the evening and night periods. Day, evening and night periods are defined as 07.00 to 19.00, 19.00 to 23.00 and 23.00 to 07.00 respectively.
Scottish Ministers commissioned strategic noise mapping analysis to meet the requirements of the Environmental Noise Directive (Directive 2002/49/EC), which is legally implemented in Scotland thorough the Environmental Noise (Scotland) Regulations 2006, as amended by the Environmental Noise (Scotland) Amendment Regulations 2018.
Noise maps are used to identify areas where noise levels are high and, by linking population data, estimate how many people are affected. This aids in the production of noise action plans to manage noise and reduce noise levels where appropriate.
Single Fused Map Cache: false
Extent:
XMin: 5515.0
YMin: 530255.0
XMax: 470335.0
YMax: 1220315.0
Spatial Reference: 27700
(27700)
LatestVCSWkid(0)
Initial Extent:
XMin: 5515.0
YMin: 530255.0
XMax: 470335.0
YMax: 1220315.0
Spatial Reference: 27700
(27700)
LatestVCSWkid(0)
Full Extent:
XMin: 5515.0
YMin: 530255.0
XMax: 470335.0
YMax: 1220315.0
Spatial Reference: 27700
(27700)
LatestVCSWkid(0)
Pixel Size X: 10.0
Pixel Size Y: 10.0
Band Count: 1
Pixel Type: F32
RasterFunction Infos: {"rasterFunctionInfos": [{
"name": "None",
"description": "",
"help": ""
}]}
Mensuration Capabilities: Basic
Inspection Capabilities:
Has Histograms: true
Has Colormap: false
Has Multi Dimensions : false
Rendering Rule:
Min Scale: 0
Max Scale: 0
Copyright Text: © Scottish Government, contains Ordnance Survey data © Crown copyright and database right 2024.
Service Data Type: esriImageServiceDataTypeGeneric
Min Values: 0
Max Values: 87.959999084473
Mean Values: 8.0809212541621
Standard Deviation Values: 18.187611093899
Object ID Field:
Fields:
None
Default Mosaic Method: Center
Allowed Mosaic Methods:
SortField:
SortValue: null
Mosaic Operator: First
Default Compression Quality: 75
Default Resampling Method: Bilinear
Max Record Count: null
Max Image Height: 4100
Max Image Width: 15000
Max Download Image Count: null
Max Mosaic Image Count: null
Allow Raster Function: true
Allow Copy: true
Allow Analysis: true
Allow Compute TiePoints: false
Supports Statistics: false
Supports Advanced Queries: false
Use StandardizedQueries: true
Raster Type Infos:
Name: Raster Dataset
Description: Supports all ArcGIS Raster Datasets
Help:
Has Raster Attribute Table: false
Edit Fields Info: null
Ownership Based AccessControl For Rasters: null
Child Resources:
Info
Histograms
Statistics
Key Properties
Legend
Raster Function Infos
Supported Operations:
Export Image
Identify
Measure
Compute Histograms
Compute Statistics Histograms
Get Samples
Compute Class Statistics
Query Boundary
Compute Pixel Location
Compute Angles
Validate
Project