{
 "currentVersion": 11.5,
 "serviceDescription": "Noise maps showing areas that are relatively louder or quieter, measured in decibels (dB), for all road, rail, airport and industry noise in Scotland in 2021. The data represents the night levels (Lnight) \u2013 the annual average A-weighted long-term sound over the night period (23:00-07:00). This includes all road sources (major and non-major), all railway sources (major and non-major), aircraft noise from airports (Aberdeen International Airport, Dundee Airport, Edinburgh Airport and Glasgow Airport) and industry sources within qualifying agglomerations (Aberdeen, Dundee, Edinburgh, Falkirk and Glasgow) by means of logarithmic summation.\n\nScottish Ministers commissioned strategic noise mapping analysis to meet the requirements of the Environmental Noise Directive (Directive 2002/49/EC), which is legally implemented in Scotland thorough the Environmental Noise (Scotland) Regulations 2006, as amended by the Environmental Noise (Scotland) Amendment Regulations 2018.\n\nNoise maps are used to identify areas where noise levels are high and, by linking population data, estimate how many people are affected. This aids in the production of noise action plans to manage noise and reduce noise levels where appropriate.",
 "serviceItemId": "b90d308098b94292a3d16d6a2dad5c70",
 "name": "Noise/Noise_Rail_LNGT_ALL",
 "description": "Noise maps showing areas that are relatively louder or quieter, measured in decibels (dB), for all road, rail, airport and industry noise in Scotland in 2021. The data represents the night levels (Lnight) \u2013 the annual average A-weighted long-term sound over the night period (23:00-07:00). This includes all road sources (major and non-major), all railway sources (major and non-major), aircraft noise from airports (Aberdeen International Airport, Dundee Airport, Edinburgh Airport and Glasgow Airport) and industry sources within qualifying agglomerations (Aberdeen, Dundee, Edinburgh, Falkirk and Glasgow) by means of logarithmic summation.\n\nScottish Ministers commissioned strategic noise mapping analysis to meet the requirements of the Environmental Noise Directive (Directive 2002/49/EC), which is legally implemented in Scotland thorough the Environmental Noise (Scotland) Regulations 2006, as amended by the Environmental Noise (Scotland) Amendment Regulations 2018.\n\nNoise maps are used to identify areas where noise levels are high and, by linking population data, estimate how many people are affected. This aids in the production of noise action plans to manage noise and reduce noise levels where appropriate.",
 "extent": {
  "xmin": 5515,
  "ymin": 530255,
  "xmax": 470335,
  "ymax": 1220315,
  "spatialReference": {
   "wkid": 27700,
   "latestWkid": 27700
  }
 },
 "initialExtent": {
  "xmin": 5515,
  "ymin": 530255,
  "xmax": 470335,
  "ymax": 1220315,
  "spatialReference": {
   "wkid": 27700,
   "latestWkid": 27700
  }
 },
 "fullExtent": {
  "xmin": 5515,
  "ymin": 530255,
  "xmax": 470335,
  "ymax": 1220315,
  "spatialReference": {
   "wkid": 27700,
   "latestWkid": 27700
  }
 },
 "sortableFields": "",
 "bandCount": 1,
 "pixelType": "F32",
 "minValues": [
  0
 ],
 "maxValues": [
  78.23999786377
 ],
 "meanValues": [
  0.46541619454761
 ],
 "stdvValues": [
  4.4192569487243
 ],
 "serviceProperties": "Center<\/MosaicMethod>First<\/MosaicOperator>true<\/SortAscending><\/LockImageID><\/TileOrderField>0<\/TileOrderBase>0.000000<\/AvgImageSpacingX>0.000000<\/AvgImageSpacingY>0.0<\/ViewPointX>0.0<\/ViewPointY>0.0<\/ViewPointDefShiftX>0.0<\/ViewPointDefShiftY>None<\/CompressionMethod>75<\/CompressionQuality>0.010000<\/CompressionTolerance>Bilinear<\/SamplingMethod><\/ImageServiceProperties><\/ImageServer>",
 "allowedFields": "",
 "hasMultidimensions": false,
 "pixelSizeX": 10,
 "pixelSizeY": 10,
 "meanPixelSize": 10,
 "datasetFormat": "TIFF",
 "uncompressedSize": 12830147568,
 "blockWidth": 46482,
 "blockHeight": 23,
 "compressionType": "LZW",
 "bandNames": [
  "Band_1"
 ],
 "allowCopy": true,
 "allowAnalysis": true,
 "itemAccess": false,
 "inspectionCapabilities": "",
 "noDataValue": -96,
 "noDataValues": [
  -96
 ],
 "minPixelSize": 0,
 "maxPixelSize": 0,
 "copyrightText": "© Scottish Government, contains Ordnance Survey data © Crown copyright and database right 2024.",
 "serviceDataType": "esriImageServiceDataTypeGeneric",
 "serviceSourceType": "esriImageServiceSourceTypeDataset",
 "objectIdField": "",
 "fields": [],
 "capabilities": "Image,Metadata,Mensuration",
 "defaultMosaicMethod": "Center",
 "allowedMosaicMethods": "",
 "sortField": "",
 "sortValue": null,
 "sortAscending": true,
 "mosaicOperator": "First",
 "defaultCompressionQuality": 75,
 "defaultResamplingMethod": "Bilinear",
 "maxImageHeight": 4100,
 "maxImageWidth": 15000,
 "allowRasterFunction": true,
 "rasterFunctionInfos": [
  {
   "name": "None",
   "description": "",
   "help": ""
  }
 ],
 "rasterTypeInfos": [
  {
   "name": "Raster Dataset",
   "description": "Supports all ArcGIS Raster Datasets",
   "help": ""
  }
 ],
 "mensurationCapabilities": "Basic",
 "hasHistograms": true,
 "hasColormap": false,
 "hasRasterAttributeTable": false,
 "minScale": 0,
 "maxScale": 0,
 "exportTilesAllowed": false,
 "supportsStatistics": false,
 "supportsAdvancedQueries": false,
 "editFieldsInfo": null,
 "ownershipBasedAccessControlForRasters": null,
 "allowComputeTiePoints": false,
 "useStandardizedQueries": true,
 "advancedQueryCapabilities": {
  "useStandardizedQueries": true,
  "supportsStatistics": false,
  "supportsOrderBy": false,
  "supportsDistinct": false,
  "supportsPagination": false
 },
 "spatialReference": {
  "wkid": 27700,
  "latestWkid": 27700
 }
}
