{ "currentVersion": 11.5, "serviceDescription": "

Noise maps showing areas that are relatively louder or quieter, measured in decibels (dB), for all railway traffic noise in Scotland (both major and non-major sources) in 2021. The data represents the day-evening-night levels (Lden) which are annual average noise levels with separate weightings for the evening and night periods. Day, evening and night periods are defined as 07.00 to 19.00, 19.00 to 23.00 and 23.00 to 07.00 respectively. Scottish Ministers commissioned strategic noise mapping analysis to meet the requirements of the Environmental Noise Directive (Directive 2002/49/EC), which is legally implemented in Scotland thorough the Environmental Noise (Scotland) Regulations 2006, as amended by the Environmental Noise (Scotland) Amendment Regulations 2018. Noise maps are used to identify areas where noise levels are high and, by linking population data, estimate how many people are affected. This aids in the production of noise action plans to manage noise and reduce noise levels where appropriate.<\/SPAN><\/P><\/DIV><\/DIV>", "serviceItemId": "01a3998e8cf24eef9122e11e60b71b7f", "name": "Noise/Noise_Rail_LDEN_ALL", "description": "

Noise maps showing areas that are relatively louder or quieter, measured in decibels (dB), for all railway traffic noise in Scotland (both major and non-major sources) in 2021. The data represents the day-evening-night levels (Lden) which are annual average noise levels with separate weightings for the evening and night periods. Day, evening and night periods are defined as 07.00 to 19.00, 19.00 to 23.00 and 23.00 to 07.00 respectively. Scottish Ministers commissioned strategic noise mapping analysis to meet the requirements of the Environmental Noise Directive (Directive 2002/49/EC), which is legally implemented in Scotland thorough the Environmental Noise (Scotland) Regulations 2006, as amended by the Environmental Noise (Scotland) Amendment Regulations 2018. Noise maps are used to identify areas where noise levels are high and, by linking population data, estimate how many people are affected. This aids in the production of noise action plans to manage noise and reduce noise levels where appropriate.<\/SPAN><\/P><\/DIV><\/DIV>", "extent": { "xmin": 5515, "ymin": 530255, "xmax": 470335, "ymax": 1220315, "spatialReference": { "wkid": 27700, "latestWkid": 27700 } }, "initialExtent": { "xmin": 5515, "ymin": 530255, "xmax": 470335, "ymax": 1220315, "spatialReference": { "wkid": 27700, "latestWkid": 27700 } }, "fullExtent": { "xmin": 5515, "ymin": 530255, "xmax": 470335, "ymax": 1220315, "spatialReference": { "wkid": 27700, "latestWkid": 27700 } }, "sortableFields": "", "bandCount": 1, "pixelType": "F32", "minValues": [ 0 ], "maxValues": [ 86.5 ], "meanValues": [ 0.87179664907516 ], "stdvValues": [ 6.4010595781662 ], "serviceProperties": "Center<\/MosaicMethod>First<\/MosaicOperator>true<\/SortAscending><\/LockImageID><\/TileOrderField>0<\/TileOrderBase>0.000000<\/AvgImageSpacingX>0.000000<\/AvgImageSpacingY>0.0<\/ViewPointX>0.0<\/ViewPointY>0.0<\/ViewPointDefShiftX>0.0<\/ViewPointDefShiftY>None<\/CompressionMethod>75<\/CompressionQuality>0.010000<\/CompressionTolerance>Bilinear<\/SamplingMethod><\/ImageServiceProperties><\/ImageServer>", "allowedFields": "", "hasMultidimensions": false, "pixelSizeX": 10, "pixelSizeY": 10, "meanPixelSize": 10, "datasetFormat": "TIFF", "uncompressedSize": 12830147568, "blockWidth": 46482, "blockHeight": 23, "compressionType": "LZW", "bandNames": [ "Band_1" ], "allowCopy": true, "allowAnalysis": true, "itemAccess": false, "inspectionCapabilities": "", "noDataValue": -96, "noDataValues": [ -96 ], "minPixelSize": 0, "maxPixelSize": 0, "copyrightText": "© Scottish Government, contains Ordnance Survey data © Crown copyright and database right 2024.", "serviceDataType": "esriImageServiceDataTypeGeneric", "serviceSourceType": "esriImageServiceSourceTypeDataset", "objectIdField": "", "fields": [], "capabilities": "Image,Metadata,Mensuration", "defaultMosaicMethod": "Center", "allowedMosaicMethods": "", "sortField": "", "sortValue": null, "sortAscending": true, "mosaicOperator": "First", "defaultCompressionQuality": 75, "defaultResamplingMethod": "Bilinear", "maxImageHeight": 4100, "maxImageWidth": 15000, "allowRasterFunction": true, "rasterFunctionInfos": [ { "name": "None", "description": "", "help": "" } ], "rasterTypeInfos": [ { "name": "Raster Dataset", "description": "Supports all ArcGIS Raster Datasets", "help": "" } ], "mensurationCapabilities": "Basic", "hasHistograms": true, "hasColormap": false, "hasRasterAttributeTable": false, "minScale": 0, "maxScale": 0, "exportTilesAllowed": false, "supportsStatistics": false, "supportsAdvancedQueries": false, "editFieldsInfo": null, "ownershipBasedAccessControlForRasters": null, "allowComputeTiePoints": false, "useStandardizedQueries": true, "advancedQueryCapabilities": { "useStandardizedQueries": true, "supportsStatistics": false, "supportsOrderBy": false, "supportsDistinct": false, "supportsPagination": false }, "spatialReference": { "wkid": 27700, "latestWkid": 27700 } }