<?xml version="1.0" encoding="UTF-8" standalone="no"?>
<metadata xml:lang="en">
<Esri>
<CreaDate>20240426</CreaDate>
<CreaTime>14264800</CreaTime>
<ArcGISFormat>1.0</ArcGISFormat>
<SyncOnce>FALSE</SyncOnce>
<DataProperties>
<itemProps>
<itemName Sync="TRUE">HORE_RL_CNOSSOS_LDEN_ALL.tif</itemName>
<imsContentType Sync="TRUE">002</imsContentType>
<nativeExtBox>
<westBL Sync="TRUE">5515.000000</westBL>
<eastBL Sync="TRUE">470335.000000</eastBL>
<southBL Sync="TRUE">530255.000000</southBL>
<northBL Sync="TRUE">1220315.000000</northBL>
<exTypeCode Sync="TRUE">1</exTypeCode>
</nativeExtBox>
</itemProps>
<coordRef>
<type Sync="TRUE">Projected</type>
<geogcsn Sync="TRUE">GCS_OSGB_1936</geogcsn>
<csUnits Sync="TRUE">Linear Unit: Meter (1.000000)</csUnits>
<projcsn Sync="TRUE">British_National_Grid</projcsn>
<peXml Sync="TRUE">&lt;ProjectedCoordinateSystem xsi:type='typens:ProjectedCoordinateSystem' xmlns:xsi='http://www.w3.org/2001/XMLSchema-instance' xmlns:xs='http://www.w3.org/2001/XMLSchema' xmlns:typens='http://www.esri.com/schemas/ArcGIS/3.1.0'&gt;&lt;WKT&gt;PROJCS[&amp;quot;British_National_Grid&amp;quot;,GEOGCS[&amp;quot;GCS_OSGB_1936&amp;quot;,DATUM[&amp;quot;D_OSGB_1936&amp;quot;,SPHEROID[&amp;quot;Airy_1830&amp;quot;,6377563.396,299.3249646]],PRIMEM[&amp;quot;Greenwich&amp;quot;,0.0],UNIT[&amp;quot;Degree&amp;quot;,0.0174532925199433]],PROJECTION[&amp;quot;Transverse_Mercator&amp;quot;],PARAMETER[&amp;quot;False_Easting&amp;quot;,400000.0],PARAMETER[&amp;quot;False_Northing&amp;quot;,-100000.0],PARAMETER[&amp;quot;Central_Meridian&amp;quot;,-2.0],PARAMETER[&amp;quot;Scale_Factor&amp;quot;,0.9996012717],PARAMETER[&amp;quot;Latitude_Of_Origin&amp;quot;,49.0],UNIT[&amp;quot;Meter&amp;quot;,1.0],AUTHORITY[&amp;quot;EPSG&amp;quot;,27700]]&lt;/WKT&gt;&lt;XOrigin&gt;-5220400&lt;/XOrigin&gt;&lt;YOrigin&gt;-15524400&lt;/YOrigin&gt;&lt;XYScale&gt;450481592.76709664&lt;/XYScale&gt;&lt;ZOrigin&gt;-100000&lt;/ZOrigin&gt;&lt;ZScale&gt;10000&lt;/ZScale&gt;&lt;MOrigin&gt;-100000&lt;/MOrigin&gt;&lt;MScale&gt;10000&lt;/MScale&gt;&lt;XYTolerance&gt;0.001&lt;/XYTolerance&gt;&lt;ZTolerance&gt;0.001&lt;/ZTolerance&gt;&lt;MTolerance&gt;0.001&lt;/MTolerance&gt;&lt;HighPrecision&gt;true&lt;/HighPrecision&gt;&lt;WKID&gt;27700&lt;/WKID&gt;&lt;LatestWKID&gt;27700&lt;/LatestWKID&gt;&lt;/ProjectedCoordinateSystem&gt;</peXml>
</coordRef>
<RasterProperties>
<General>
<PixelDepth Sync="TRUE">32</PixelDepth>
<HasColormap Sync="TRUE">FALSE</HasColormap>
<CompressionType Sync="TRUE">LZW</CompressionType>
<NumBands Sync="TRUE">1</NumBands>
<Format Sync="TRUE">TIFF</Format>
<HasPyramids Sync="TRUE">TRUE</HasPyramids>
<SourceType Sync="TRUE">continuous</SourceType>
<PixelType Sync="TRUE">floating point</PixelType>
<NoDataValue Sync="TRUE">-96</NoDataValue>
</General>
</RasterProperties>
</DataProperties>
<SyncDate>20240729</SyncDate>
<SyncTime>15251100</SyncTime>
<ModDate>20250113</ModDate>
<ModTime>16375500</ModTime>
<scaleRange>
<minScale>150000000</minScale>
<maxScale>5000</maxScale>
</scaleRange>
<ArcGISProfile>INSPIRE</ArcGISProfile>
</Esri>
<mdFileID>7ba69a71-ed1d-45d3-9aba-38b3f5fa8f22</mdFileID>
<mdLang>
<languageCode value="eng">
</languageCode>
<countryCode Sync="TRUE" value="GBR">
</countryCode>
</mdLang>
<mdChar>
<CharSetCd value="004">
</CharSetCd>
</mdChar>
<mdHrLv>
<ScopeCd value="005">
</ScopeCd>
</mdHrLv>
<mdContact>
<rpIndName>GIS Analyst</rpIndName>
<rpOrgName>Scottish Government</rpOrgName>
<rpPosName>Geospatial Team</rpPosName>
<rpCntInfo>
<cntAddress>
<delPoint>Victoria Quay</delPoint>
<city>Edinburgh</city>
<postCode>EH6 6QQ</postCode>
<country>GB</country>
<eMailAdd>GIS@gov.scot</eMailAdd>
</cntAddress>
<cntOnlineRes>
<linkage>https://www.gov.scot/</linkage>
<protocol>WWW:LINK-1.0-http--link</protocol>
<orFunct>
<OnFunctCd value="002">
</OnFunctCd>
</orFunct>
</cntOnlineRes>
</rpCntInfo>
<role>
<RoleCd value="007">
</RoleCd>
</role>
</mdContact>
<mdDateSt Sync="TRUE">20250113</mdDateSt>
<mdStanName>ArcGIS Metadata</mdStanName>
<mdStanVer>1.0</mdStanVer>
<distInfo>
<distFormat>
<formatName>WMS</formatName>
</distFormat>
<distFormat>
<formatName>ESRI REST</formatName>
</distFormat>
<distFormat>
<formatName>GeoTIFF</formatName>
</distFormat>
<distTranOps>
<onLineSrc>
<linkage>https://map.sepa.org.uk/atom/noise/Noise_Rail_LDEN_ALL.zip</linkage>
<orName>Noise_Rail_LDEN_ALL</orName>
<orDesc>Compressed file (.zip) containing georeferenced raster imagery</orDesc>
<orFunct>
<OnFunctCd value="001">
</OnFunctCd>
</orFunct>
</onLineSrc>
<onLineSrc>
<linkage>https://map.sepa.org.uk/server/rest/services/Noise/Noise/MapServer/18</linkage>
<orName>Noise_Rail_LDEN_ALL</orName>
<orDesc>Esri REST endpoint</orDesc>
<orFunct>
<OnFunctCd value="001">
</OnFunctCd>
</orFunct>
</onLineSrc>
<onLineSrc>
<linkage>https://map.sepa.org.uk/server/services/Noise/Noise/MapServer/WMSServer?request=GetCapabilities&amp;service=WMS</linkage>
<orName>Noise_Rail_LDEN_ALL</orName>
<orDesc>Noise_Rail_LDEN_ALL</orDesc>
<orFunct>
<OnFunctCd value="002">
</OnFunctCd>
</orFunct>
</onLineSrc>
<onLineSrc>
<linkage>https://noise.environment.gov.scot/</linkage>
<protocol>WWW:LINK-1.0-http--link</protocol>
<orName>Scotland's Noise</orName>
<orDesc>Website providing information relating to Scotland's noise mapping.</orDesc>
<orFunct>
<OnFunctCd value="002">
</OnFunctCd>
</orFunct>
</onLineSrc>
</distTranOps>
</distInfo>
<dataIdInfo>
<idCitation>
<resTitle>Noise Rail LDEN ALL</resTitle>
<date>
<pubDate>2024-08-05</pubDate>
</date>
<citId>
<identCode>HORE_RL_CNOSSOS_LDEN_ALL</identCode>
</citId>
<presForm>
<PresFormCd Sync="TRUE" value="005">
</PresFormCd>
</presForm>
</idCitation>
<idAbs>&lt;div style='text-align:Left;'&gt;&lt;div&gt;&lt;p&gt;&lt;span&gt;Noise maps showing areas that are relatively louder or quieter, measured in decibels (dB), for all railway traffic noise in Scotland (both major and non-major sources) in 2021. The data represents the day-evening-night levels (Lden) which are annual average noise levels with separate weightings for the evening and night periods. Day, evening and night periods are defined as 07.00 to 19.00, 19.00 to 23.00 and 23.00 to 07.00 respectively. Scottish Ministers commissioned strategic noise mapping analysis to meet the requirements of the Environmental Noise Directive (Directive 2002/49/EC), which is legally implemented in Scotland thorough the Environmental Noise (Scotland) Regulations 2006, as amended by the Environmental Noise (Scotland) Amendment Regulations 2018. Noise maps are used to identify areas where noise levels are high and, by linking population data, estimate how many people are affected. This aids in the production of noise action plans to manage noise and reduce noise levels where appropriate.&lt;/span&gt;&lt;/p&gt;&lt;/div&gt;&lt;/div&gt;</idAbs>
<idPurp>Noise maps showing areas that are relatively louder or quieter, measured in decibels (dB). Data represents average day-evening-night levels (Lden) for all rail traffic noise in Scotland. Created from Round 4 of the strategic noise mapping analysis undertaken to meet the requirements of the Environmental Noise (Scotland) Regulation 2006 (as amended).</idPurp>
<idCredit>© Scottish Government, contains Ordnance Survey data © Crown copyright and database right 2024.</idCredit>
<idPoC>
<rpIndName>Noise Policy Officer</rpIndName>
<rpOrgName>Scottish Government</rpOrgName>
<rpPosName>Environment Protection Team</rpPosName>
<rpCntInfo>
<cntAddress>
<delPoint>Victoria Quay</delPoint>
<city>Edinburgh</city>
<postCode>EH6 6QQ</postCode>
<country>GB</country>
<eMailAdd>environment.protection.team@gov.scot</eMailAdd>
</cntAddress>
<cntOnlineRes>
<linkage>https://www.gov.scot/</linkage>
<protocol>WWW:LINK-1.0-http--link</protocol>
<orDesc>Scottish Government website</orDesc>
<orFunct>
<OnFunctCd value="002">
</OnFunctCd>
</orFunct>
</cntOnlineRes>
</rpCntInfo>
<role>
<RoleCd value="007">
</RoleCd>
</role>
</idPoC>
<idPoC>
<rpIndName>GIS Analyst</rpIndName>
<rpOrgName>Scottish Environment Protection Agency</rpOrgName>
<rpPosName>GIS Team</rpPosName>
<rpCntInfo>
<cntAddress>
<delPoint>Angus Smith Building, 6 Parklands Avenue, Eurocentral</delPoint>
<city>Holytown</city>
<adminArea>North Lanarkshire</adminArea>
<postCode>ML1 4WQ</postCode>
<country>GB</country>
<eMailAdd>foi@sepa.org.uk</eMailAdd>
</cntAddress>
<cntOnlineRes>
<linkage>https://www.sepa.org.uk/</linkage>
<orDesc>Scottish Environment Protection Agency website.</orDesc>
<orFunct>
<OnFunctCd value="002">
</OnFunctCd>
</orFunct>
</cntOnlineRes>
</rpCntInfo>
<role>
<RoleCd value="005">
</RoleCd>
</role>
</idPoC>
<resMaint>
<maintFreq>
<MaintFreqCd value="009">
</MaintFreqCd>
</maintFreq>
<maintNote>To be updated every 5 years, as a minimum, in line with the Environmental Noise (Scotland) Regulation 2006 (as amended).</maintNote>
</resMaint>
<themeKeys>
<thesaName>
<resTitle>GEMET - INSPIRE themes, version 1.0</resTitle>
<citOnlineRes>
<linkage>http://inspire.ec.europa.eu/theme</linkage>
</citOnlineRes>
<date>
<pubDate>2008-06-01</pubDate>
</date>
</thesaName>
</themeKeys>
<themeKeys>
<thesaName>
<resTitle>GEMET - Concepts, version 4.2.3</resTitle>
<citOnlineRes>
<linkage>http://geonetwork-opensource.org/gemet</linkage>
</citOnlineRes>
<date>
<pubDate>2021-12-06</pubDate>
</date>
</thesaName>
</themeKeys>
<resConst>
<LegConsts>
<accessConsts>
<RestrictCd value="008">
</RestrictCd>
</accessConsts>
<inspirePublicAccessLimits>
<PublicAccessCd value="001">
</PublicAccessCd>
</inspirePublicAccessLimits>
</LegConsts>
<Consts>
<useLimit/>
</Consts>
</resConst>
<resConst>
<LegConsts>
<useConsts>
<RestrictCd value="008">
</RestrictCd>
</useConsts>
<othConsts>Available under the terms of the Open Government Licence. The following attribution statement must be used to acknowledge the source of the information: © Scottish Government, contains Ordnance Survey data © Crown copyright and database right 2024.</othConsts>
<othConsts>This noise mapping data has been developed for strategic purposes and should be used accordingly. It does not represent a definitive assessment of risk for point locations or individual properties and is therefore not suitable for insurance purposes or property enquiries.</othConsts>
</LegConsts>
<Consts>
<useLimit/>
</Consts>
</resConst>
<spatRpType>
<SpatRepTypCd value="002">
</SpatRepTypCd>
</spatRpType>
<dataScale>
<scaleDist>
<value uom="m">10</value>
</scaleDist>
</dataScale>
<dataLang>
<languageCode value="eng">
</languageCode>
<countryCode Sync="TRUE" value="GBR">
</countryCode>
</dataLang>
<dataChar>
<CharSetCd value="004">
</CharSetCd>
</dataChar>
<dataExt>
<geoEle>
<GeoBndBox>
<westBL>-8.65</westBL>
<eastBL>-0.7244</eastBL>
<southBL>54.6332</southBL>
<northBL>60.8608</northBL>
</GeoBndBox>
</geoEle>
</dataExt>
<envirDesc Sync="FALSE">Esri ArcGIS 13.1.3.41833</envirDesc>
<dataExt>
<geoEle>
<GeoBndBox esriExtentType="search">
<exTypeCode Sync="TRUE">1</exTypeCode>
<westBL Sync="TRUE">-9.229858</westBL>
<eastBL Sync="TRUE">-0.705077</eastBL>
<northBL Sync="TRUE">60.866233</northBL>
<southBL Sync="TRUE">54.513394</southBL>
</GeoBndBox>
</geoEle>
</dataExt>
<tpCat>
<TopicCatCd value="007">
</TopicCatCd>
</tpCat>
<tpCat>
<TopicCatCd value="009">
</TopicCatCd>
</tpCat>
</dataIdInfo>
<dqInfo>
<dqScope>
<scpLvl>
<ScopeCd value="005">
</ScopeCd>
</scpLvl>
</dqScope>
<report type="DQDomConsis">
<measResult>
<ConResult>
<conSpec>
<resTitle>Commission Regulation (EU) No 1089/2010 of 23 November 2010 implementing Directive 2007/2/EC of the European Parliament and of the Council as regards interoperability of spatial data sets and services</resTitle>
<citOnlineRes>
<linkage>http://data.europa.eu/eli/reg/2010/1089</linkage>
</citOnlineRes>
<date>
<pubDate>2010-12-08</pubDate>
</date>
</conSpec>
<conPass>false</conPass>
</ConResult>
</measResult>
</report>
<dataLineage>
<statement>The Environmental Noise Directive requires, on a five yearly cycle, the Scottish Government to produce strategic noise maps. The Directive was transposed into Scottish legislation under the Environmental Noise (Scotland) Regulations 2006 and amended by the Environmental Noise (Scotland) Amendment Regulations 2018 following the United Kingdom’s exit from the European Union.
Strategic noise maps for the fourth round of mapping have been produced using the European Commission’s common noise assessment methods (CNOSSOS-EU). This is a new method of producing strategic noise maps for the entirety of Scotland, meaning the previous three rounds are not comparable to this round. The analysis was completed using several in house, open source, and commercially available software tools, and was delivered by Noise Consultants Limited in collaboration with Mott MacDonald, Acustica and Stapelfeldt on behalf of the Scottish Ministers.
The maps were created using specialised noise modelling software, which calculates the noise level on a 10m grid at a reception height of 4m above local ground level as required by the Environmental Noise Regulations. The software takes account of physical features such as buildings and the ground contours. The grid information is then used to create the series of noise contour bands, depicting an average noise level for an average day in the year. The data required for the calculations of noise levels have been determined by consultation with various organisations including Transport Scotland, SEPA, Network Rail, Airport Operators, Local Authorities, and others.
For Round 4, the following noise sources were included:
• Airports with more than 50,000 (fifty thousand) movements;
• Airports with less than 50,000 (fifty thousand) movements but emit relevant noise levels into agglomerations;
• Railways - both major (with more than 30,000 (thirty thousand) train passages a year) and non-major railways;
• Roads - both major (with more than 3,000,000 (three million) vehicle passages per year) and non-major roads;
• Industry within qualifying agglomerations (urban areas with populations in excess of 100,000 (one hundred thousand), i.e. Aberdeen, Dundee, Edinburgh, Falkirk and Glasgow).
Results were produced for roads (both all sources and major roads only), rail (both all sources and major railways only) and industry using the following indicators:
• Day-evening-night level (Lden) - the annual average noise level with separate weightings for the evening and night periods. Day, evening and night periods are defined as 07.00 to 19.00, 19.00 to 23.00 and 23.00 to 07.00 respectively;
• Daytime level (Lday) - the annual average A-weighted long-term sound over the daytime period (07:00-19:00);
• Evening level (Leve) – the annual average A-weighted long-term sound over the evening period (19:00-23:00);
• Night level (Lnight) – the annual average A-weighted long-term sound over the night period (23:00-07:00);
• 6-hour night-time level (LAeq,6h) - the A-weighted equivalent continuous sound level over a 6-hour time period (24:00-06:00). It is the sound level of a steady state sound that has the same energy as a fluctuating sound over the same period;
• 16-hour daytime level (LAeq,16h) - the A-weighted equivalent continuous sound level over a 16-hour time period (07:00-23:00). It is the sound level of a steady state sound that has the same energy as a fluctuating sound over the same period;
• 18-hour daytime level (LAeq,18h) - the A-weighted equivalent continuous sound level over a 18-hour time period (06:00-24:00). It is the sound level of a steady state sound that has the same energy as a fluctuating sound over the same period.
Consolidated results were also produced including outputs from each of the road, rail, industrial and airport noise grids. The consolidated maps are produced simply as a logarithmic sum of the separate source sound levels and are not subject to response or effects based corrections.</statement>
</dataLineage>
</dqInfo>
<refSysInfo>
<RefSystem>
<refSysID>
<identCode code="EPSG:27700">
</identCode>
<idCodeSpace>http://www.opengis.net/def/crs/EPSG/0/27700</idCodeSpace>
<idVersion Sync="TRUE">6.3(3.0.1)</idVersion>
</refSysID>
</RefSystem>
</refSysInfo>
<mdHrLvName Sync="TRUE">dataset</mdHrLvName>
<spatRepInfo>
<Georect>
<cellGeo>
<CellGeoCd Sync="TRUE" value="002">
</CellGeoCd>
</cellGeo>
<numDims Sync="TRUE">2</numDims>
<tranParaAv Sync="TRUE">1</tranParaAv>
<chkPtAv Sync="TRUE">0</chkPtAv>
<cornerPts>
<pos Sync="TRUE">5515.000000 530255.000000</pos>
</cornerPts>
<cornerPts>
<pos Sync="TRUE">5515.000000 1220315.000000</pos>
</cornerPts>
<cornerPts>
<pos Sync="TRUE">470335.000000 1220315.000000</pos>
</cornerPts>
<cornerPts>
<pos Sync="TRUE">470335.000000 530255.000000</pos>
</cornerPts>
<centerPt>
<pos Sync="TRUE">237925.000000 875285.000000</pos>
</centerPt>
<axisDimension type="002">
<dimSize Sync="TRUE">46482</dimSize>
<dimResol>
<value Sync="TRUE" uom="m">10.000000</value>
</dimResol>
</axisDimension>
<axisDimension type="001">
<dimSize Sync="TRUE">69006</dimSize>
<dimResol>
<value Sync="TRUE" uom="m">10.000000</value>
</dimResol>
</axisDimension>
<ptInPixel>
<PixOrientCd Sync="TRUE" value="001">
</PixOrientCd>
</ptInPixel>
</Georect>
</spatRepInfo>
<contInfo>
<ImgDesc>
<contentTyp>
<ContentTypCd Sync="TRUE" value="001">
</ContentTypCd>
</contentTyp>
<covDim>
<Band>
<dimDescrp Sync="TRUE">Band_1</dimDescrp>
<maxVal Sync="TRUE">86.500000</maxVal>
<minVal Sync="TRUE">0.000000</minVal>
<bitsPerVal Sync="TRUE">32</bitsPerVal>
<valUnit>
<UOM type="length">
</UOM>
</valUnit>
</Band>
</covDim>
</ImgDesc>
</contInfo>
</metadata>
