{ "currentVersion": 11.5, "serviceDescription": "

Noise maps showing areas that are relatively louder or quieter, measured in decibels (dB), for industry noise within agglomerations in 2021. The data represents the evening levels (Leve) \u2013 the annual average A-weighted long-term sound over the evening period (19:00-23:00). Qualifying agglomerations are urban areas with populations in excess of 100,000 people, i.e. Aberdeen, Dundee, Edinburgh, Falkirk and Glasgow. Scottish Ministers commissioned strategic noise mapping analysis to meet the requirements of the Environmental Noise Directive (Directive 2002/49/EC), which is legally implemented in Scotland thorough the Environmental Noise (Scotland) Regulations 2006, as amended by the Environmental Noise (Scotland) Amendment Regulations 2018. Noise maps are used to identify areas where noise levels are high and, by linking population data, estimate how many people are affected. This aids in the production of noise action plans to manage noise and reduce noise levels where appropriate.<\/SPAN><\/P><\/DIV><\/DIV><\/DIV>", "serviceItemId": "a246eac54e2a42c98ee09a396be80d78", "name": "Noise/Noise_Industry_LEVG", "description": "

Noise maps showing areas that are relatively louder or quieter, measured in decibels (dB), for industry noise within agglomerations in 2021. The data represents the evening levels (Leve) \u2013 the annual average A-weighted long-term sound over the evening period (19:00-23:00). Qualifying agglomerations are urban areas with populations in excess of 100,000 people, i.e. Aberdeen, Dundee, Edinburgh, Falkirk and Glasgow. Scottish Ministers commissioned strategic noise mapping analysis to meet the requirements of the Environmental Noise Directive (Directive 2002/49/EC), which is legally implemented in Scotland thorough the Environmental Noise (Scotland) Regulations 2006, as amended by the Environmental Noise (Scotland) Amendment Regulations 2018. Noise maps are used to identify areas where noise levels are high and, by linking population data, estimate how many people are affected. This aids in the production of noise action plans to manage noise and reduce noise levels where appropriate.<\/SPAN><\/P><\/DIV><\/DIV><\/DIV>", "extent": { "xmin": 239675, "ymin": 653495, "xmax": 397285, "ymax": 814595, "spatialReference": { "wkt2": "COMPOUNDCRS[\"\",PROJCRS[\"British_National_Grid\",BASEGEOGCRS[\"GCS_OSGB_1936\",DATUM[\"D_OSGB_1936\",ELLIPSOID[\"Airy_1830\",6377563.396,299.3249646,LENGTHUNIT[\"Meter\",1.0]]],PRIMEM[\"Greenwich\",0.0,ANGLEUNIT[\"Degree\",0.0174532925199433]],CS[ellipsoidal,2],AXIS[\"Latitude (lat)\",north,ORDER[1]],AXIS[\"Longitude (lon)\",east,ORDER[2]],ANGLEUNIT[\"Degree\",0.0174532925199433]],CONVERSION[\"Transverse_Mercator\",METHOD[\"Transverse_Mercator\"],PARAMETER[\"False_Easting\",400000.0,LENGTHUNIT[\"Meter\",1.0]],PARAMETER[\"False_Northing\",-100000.0,LENGTHUNIT[\"Meter\",1.0]],PARAMETER[\"Central_Meridian\",-2.0,ANGLEUNIT[\"Degree\",0.0174532925199433]],PARAMETER[\"Scale_Factor\",0.9996012717,SCALEUNIT[\"Unity\",1.0]],PARAMETER[\"Latitude_Of_Origin\",49.0,ANGLEUNIT[\"Degree\",0.0174532925199433]]],CS[Cartesian,2],AXIS[\"Easting (X)\",east,ORDER[1]],AXIS[\"Northing (Y)\",north,ORDER[2]],LENGTHUNIT[\"Meter\",1.0]],VERTCRS[\"unknown\",VDATUM[\"unknown\"],CS[vertical,1],AXIS[\"Gravity-related height (H)\",up,LENGTHUNIT[\"Meter\",1.0]]]]", "wkt": "PROJCS[\"British_National_Grid\",GEOGCS[\"GCS_OSGB_1936\",DATUM[\"D_OSGB_1936\",SPHEROID[\"Airy_1830\",6377563.396,299.3249646]],PRIMEM[\"Greenwich\",0.0],UNIT[\"Degree\",0.0174532925199433]],PROJECTION[\"Transverse_Mercator\"],PARAMETER[\"False_Easting\",400000.0],PARAMETER[\"False_Northing\",-100000.0],PARAMETER[\"Central_Meridian\",-2.0],PARAMETER[\"Scale_Factor\",0.9996012717],PARAMETER[\"Latitude_Of_Origin\",49.0],UNIT[\"Meter\",1.0]],VERTCS[\"unknown\",VDATUM[\"unknown\"],PARAMETER[\"Vertical_Shift\",0.0],PARAMETER[\"Direction\",1.0],UNIT[\"Meter\",1.0]]" } }, "initialExtent": { "xmin": 239675, "ymin": 653495, "xmax": 397285, "ymax": 814595, "spatialReference": { "wkt2": "COMPOUNDCRS[\"\",PROJCRS[\"British_National_Grid\",BASEGEOGCRS[\"GCS_OSGB_1936\",DATUM[\"D_OSGB_1936\",ELLIPSOID[\"Airy_1830\",6377563.396,299.3249646,LENGTHUNIT[\"Meter\",1.0]]],PRIMEM[\"Greenwich\",0.0,ANGLEUNIT[\"Degree\",0.0174532925199433]],CS[ellipsoidal,2],AXIS[\"Latitude (lat)\",north,ORDER[1]],AXIS[\"Longitude (lon)\",east,ORDER[2]],ANGLEUNIT[\"Degree\",0.0174532925199433]],CONVERSION[\"Transverse_Mercator\",METHOD[\"Transverse_Mercator\"],PARAMETER[\"False_Easting\",400000.0,LENGTHUNIT[\"Meter\",1.0]],PARAMETER[\"False_Northing\",-100000.0,LENGTHUNIT[\"Meter\",1.0]],PARAMETER[\"Central_Meridian\",-2.0,ANGLEUNIT[\"Degree\",0.0174532925199433]],PARAMETER[\"Scale_Factor\",0.9996012717,SCALEUNIT[\"Unity\",1.0]],PARAMETER[\"Latitude_Of_Origin\",49.0,ANGLEUNIT[\"Degree\",0.0174532925199433]]],CS[Cartesian,2],AXIS[\"Easting (X)\",east,ORDER[1]],AXIS[\"Northing (Y)\",north,ORDER[2]],LENGTHUNIT[\"Meter\",1.0]],VERTCRS[\"unknown\",VDATUM[\"unknown\"],CS[vertical,1],AXIS[\"Gravity-related height (H)\",up,LENGTHUNIT[\"Meter\",1.0]]]]", "wkt": "PROJCS[\"British_National_Grid\",GEOGCS[\"GCS_OSGB_1936\",DATUM[\"D_OSGB_1936\",SPHEROID[\"Airy_1830\",6377563.396,299.3249646]],PRIMEM[\"Greenwich\",0.0],UNIT[\"Degree\",0.0174532925199433]],PROJECTION[\"Transverse_Mercator\"],PARAMETER[\"False_Easting\",400000.0],PARAMETER[\"False_Northing\",-100000.0],PARAMETER[\"Central_Meridian\",-2.0],PARAMETER[\"Scale_Factor\",0.9996012717],PARAMETER[\"Latitude_Of_Origin\",49.0],UNIT[\"Meter\",1.0]],VERTCS[\"unknown\",VDATUM[\"unknown\"],PARAMETER[\"Vertical_Shift\",0.0],PARAMETER[\"Direction\",1.0],UNIT[\"Meter\",1.0]]" } }, "fullExtent": { "xmin": 239675, "ymin": 653495, "xmax": 397285, "ymax": 814595, "spatialReference": { "wkt2": "COMPOUNDCRS[\"\",PROJCRS[\"British_National_Grid\",BASEGEOGCRS[\"GCS_OSGB_1936\",DATUM[\"D_OSGB_1936\",ELLIPSOID[\"Airy_1830\",6377563.396,299.3249646,LENGTHUNIT[\"Meter\",1.0]]],PRIMEM[\"Greenwich\",0.0,ANGLEUNIT[\"Degree\",0.0174532925199433]],CS[ellipsoidal,2],AXIS[\"Latitude (lat)\",north,ORDER[1]],AXIS[\"Longitude (lon)\",east,ORDER[2]],ANGLEUNIT[\"Degree\",0.0174532925199433]],CONVERSION[\"Transverse_Mercator\",METHOD[\"Transverse_Mercator\"],PARAMETER[\"False_Easting\",400000.0,LENGTHUNIT[\"Meter\",1.0]],PARAMETER[\"False_Northing\",-100000.0,LENGTHUNIT[\"Meter\",1.0]],PARAMETER[\"Central_Meridian\",-2.0,ANGLEUNIT[\"Degree\",0.0174532925199433]],PARAMETER[\"Scale_Factor\",0.9996012717,SCALEUNIT[\"Unity\",1.0]],PARAMETER[\"Latitude_Of_Origin\",49.0,ANGLEUNIT[\"Degree\",0.0174532925199433]]],CS[Cartesian,2],AXIS[\"Easting (X)\",east,ORDER[1]],AXIS[\"Northing (Y)\",north,ORDER[2]],LENGTHUNIT[\"Meter\",1.0]],VERTCRS[\"unknown\",VDATUM[\"unknown\"],CS[vertical,1],AXIS[\"Gravity-related height (H)\",up,LENGTHUNIT[\"Meter\",1.0]]]]", "wkt": "PROJCS[\"British_National_Grid\",GEOGCS[\"GCS_OSGB_1936\",DATUM[\"D_OSGB_1936\",SPHEROID[\"Airy_1830\",6377563.396,299.3249646]],PRIMEM[\"Greenwich\",0.0],UNIT[\"Degree\",0.0174532925199433]],PROJECTION[\"Transverse_Mercator\"],PARAMETER[\"False_Easting\",400000.0],PARAMETER[\"False_Northing\",-100000.0],PARAMETER[\"Central_Meridian\",-2.0],PARAMETER[\"Scale_Factor\",0.9996012717],PARAMETER[\"Latitude_Of_Origin\",49.0],UNIT[\"Meter\",1.0]],VERTCS[\"unknown\",VDATUM[\"unknown\"],PARAMETER[\"Vertical_Shift\",0.0],PARAMETER[\"Direction\",1.0],UNIT[\"Meter\",1.0]]" } }, "sortableFields": "", "heightModelInfo": { "heightModel": "gravity_related_height", "vertCRS": "unknown", "heightUnit": "meter" }, "bandCount": 1, "pixelType": "F32", "minValues": [ -40.099998474121 ], "maxValues": [ 71.410003662109 ], "meanValues": [ 22.024758180921 ], "stdvValues": [ 14.786889670295 ], "serviceProperties": "Center<\/MosaicMethod>First<\/MosaicOperator>true<\/SortAscending><\/LockImageID><\/TileOrderField>0<\/TileOrderBase>0.000000<\/AvgImageSpacingX>0.000000<\/AvgImageSpacingY>0.0<\/ViewPointX>0.0<\/ViewPointY>0.0<\/ViewPointDefShiftX>0.0<\/ViewPointDefShiftY>None<\/CompressionMethod>75<\/CompressionQuality>0.010000<\/CompressionTolerance>Bilinear<\/SamplingMethod><\/ImageServiceProperties><\/ImageServer>", "allowedFields": "", "hasMultidimensions": false, "pixelSizeX": 10, "pixelSizeY": 10, "meanPixelSize": 10, "datasetFormat": "TIFF", "uncompressedSize": 1015638840, "blockWidth": 128, "blockHeight": 128, "compressionType": "LZW", "bandNames": [ "Band_1" ], "allowCopy": true, "allowAnalysis": true, "itemAccess": false, "inspectionCapabilities": "", "noDataValue": 3.3999999521443642E38, "noDataValues": [ 3.3999999521443642E38 ], "minPixelSize": 0, "maxPixelSize": 0, "copyrightText": "© Scottish Government, contains Ordnance Survey data © Crown copyright and database right 2024.", "serviceDataType": "esriImageServiceDataTypeGeneric", "serviceSourceType": "esriImageServiceSourceTypeDataset", "objectIdField": "", "fields": [], "capabilities": "Image,Metadata,Mensuration", "defaultMosaicMethod": "Center", "allowedMosaicMethods": "", "sortField": "", "sortValue": null, "sortAscending": true, "mosaicOperator": "First", "defaultCompressionQuality": 75, "defaultResamplingMethod": "Bilinear", "maxImageHeight": 4100, "maxImageWidth": 15000, "allowRasterFunction": true, "rasterFunctionInfos": [ { "name": "None", "description": "", "help": "" } ], "rasterTypeInfos": [ { "name": "Raster Dataset", "description": "Supports all ArcGIS Raster Datasets", "help": "" } ], "mensurationCapabilities": "Basic", "hasHistograms": true, "hasColormap": false, "hasRasterAttributeTable": false, "minScale": 0, "maxScale": 0, "exportTilesAllowed": false, "supportsStatistics": false, "supportsAdvancedQueries": false, "editFieldsInfo": null, "ownershipBasedAccessControlForRasters": null, "allowComputeTiePoints": false, "useStandardizedQueries": true, "advancedQueryCapabilities": { "useStandardizedQueries": true, "supportsStatistics": false, "supportsOrderBy": false, "supportsDistinct": false, "supportsPagination": false }, "spatialReference": { "wkt2": "COMPOUNDCRS[\"\",PROJCRS[\"British_National_Grid\",BASEGEOGCRS[\"GCS_OSGB_1936\",DATUM[\"D_OSGB_1936\",ELLIPSOID[\"Airy_1830\",6377563.396,299.3249646,LENGTHUNIT[\"Meter\",1.0]]],PRIMEM[\"Greenwich\",0.0,ANGLEUNIT[\"Degree\",0.0174532925199433]],CS[ellipsoidal,2],AXIS[\"Latitude (lat)\",north,ORDER[1]],AXIS[\"Longitude (lon)\",east,ORDER[2]],ANGLEUNIT[\"Degree\",0.0174532925199433]],CONVERSION[\"Transverse_Mercator\",METHOD[\"Transverse_Mercator\"],PARAMETER[\"False_Easting\",400000.0,LENGTHUNIT[\"Meter\",1.0]],PARAMETER[\"False_Northing\",-100000.0,LENGTHUNIT[\"Meter\",1.0]],PARAMETER[\"Central_Meridian\",-2.0,ANGLEUNIT[\"Degree\",0.0174532925199433]],PARAMETER[\"Scale_Factor\",0.9996012717,SCALEUNIT[\"Unity\",1.0]],PARAMETER[\"Latitude_Of_Origin\",49.0,ANGLEUNIT[\"Degree\",0.0174532925199433]]],CS[Cartesian,2],AXIS[\"Easting (X)\",east,ORDER[1]],AXIS[\"Northing (Y)\",north,ORDER[2]],LENGTHUNIT[\"Meter\",1.0]],VERTCRS[\"unknown\",VDATUM[\"unknown\"],CS[vertical,1],AXIS[\"Gravity-related height (H)\",up,LENGTHUNIT[\"Meter\",1.0]]]]", "wkt": "PROJCS[\"British_National_Grid\",GEOGCS[\"GCS_OSGB_1936\",DATUM[\"D_OSGB_1936\",SPHEROID[\"Airy_1830\",6377563.396,299.3249646]],PRIMEM[\"Greenwich\",0.0],UNIT[\"Degree\",0.0174532925199433]],PROJECTION[\"Transverse_Mercator\"],PARAMETER[\"False_Easting\",400000.0],PARAMETER[\"False_Northing\",-100000.0],PARAMETER[\"Central_Meridian\",-2.0],PARAMETER[\"Scale_Factor\",0.9996012717],PARAMETER[\"Latitude_Of_Origin\",49.0],UNIT[\"Meter\",1.0]],VERTCS[\"unknown\",VDATUM[\"unknown\"],PARAMETER[\"Vertical_Shift\",0.0],PARAMETER[\"Direction\",1.0],UNIT[\"Meter\",1.0]]" } }